BEGIN:VCALENDAR
VERSION:2.0
PRODID:-//Ascend Technologies - ECPv6.15.20//NONSGML v1.0//EN
CALSCALE:GREGORIAN
METHOD:PUBLISH
X-WR-CALNAME:Ascend Technologies
X-ORIGINAL-URL:https://teamascend.com
X-WR-CALDESC:Events for Ascend Technologies
REFRESH-INTERVAL;VALUE=DURATION:PT1H
X-Robots-Tag:noindex
X-PUBLISHED-TTL:PT1H
BEGIN:VTIMEZONE
TZID:America/Chicago
BEGIN:DAYLIGHT
TZOFFSETFROM:-0600
TZOFFSETTO:-0500
TZNAME:CDT
DTSTART:20220313T080000
END:DAYLIGHT
BEGIN:STANDARD
TZOFFSETFROM:-0500
TZOFFSETTO:-0600
TZNAME:CST
DTSTART:20221106T070000
END:STANDARD
BEGIN:DAYLIGHT
TZOFFSETFROM:-0600
TZOFFSETTO:-0500
TZNAME:CDT
DTSTART:20230312T080000
END:DAYLIGHT
BEGIN:STANDARD
TZOFFSETFROM:-0500
TZOFFSETTO:-0600
TZNAME:CST
DTSTART:20231105T070000
END:STANDARD
BEGIN:DAYLIGHT
TZOFFSETFROM:-0600
TZOFFSETTO:-0500
TZNAME:CDT
DTSTART:20240310T080000
END:DAYLIGHT
BEGIN:STANDARD
TZOFFSETFROM:-0500
TZOFFSETTO:-0600
TZNAME:CST
DTSTART:20241103T070000
END:STANDARD
END:VTIMEZONE
BEGIN:VEVENT
DTSTART;TZID=America/Chicago:20230313T000000
DTEND;TZID=America/Chicago:20230314T235959
DTSTAMP:20260421T205522
CREATED:20230223T152210Z
LAST-MODIFIED:20230223T152458Z
UID:23291-1678665600-1678838399@teamascend.com
SUMMARY:Arkansas TSA State Conference and Competition
DESCRIPTION:Cybersecurity consultants Valerie Moring and Cheryl Hearne will offer attendees the chance to explore and develop a wide range of crucial and timely skills for a successful career in IT and Cybersecurity with two learning sessions.
URL:https://teamascend.com/event/arkansas-tsa-state-conference-and-competition/
END:VEVENT
END:VCALENDAR