BEGIN:VCALENDAR
VERSION:2.0
PRODID:-//Ascend Technologies - ECPv6.15.20//NONSGML v1.0//EN
CALSCALE:GREGORIAN
METHOD:PUBLISH
X-WR-CALNAME:Ascend Technologies
X-ORIGINAL-URL:https://teamascend.com
X-WR-CALDESC:Events for Ascend Technologies
REFRESH-INTERVAL;VALUE=DURATION:PT1H
X-Robots-Tag:noindex
X-PUBLISHED-TTL:PT1H
BEGIN:VTIMEZONE
TZID:America/Chicago
BEGIN:DAYLIGHT
TZOFFSETFROM:-0600
TZOFFSETTO:-0500
TZNAME:CDT
DTSTART:20220313T080000
END:DAYLIGHT
BEGIN:STANDARD
TZOFFSETFROM:-0500
TZOFFSETTO:-0600
TZNAME:CST
DTSTART:20221106T070000
END:STANDARD
BEGIN:DAYLIGHT
TZOFFSETFROM:-0600
TZOFFSETTO:-0500
TZNAME:CDT
DTSTART:20230312T080000
END:DAYLIGHT
BEGIN:STANDARD
TZOFFSETFROM:-0500
TZOFFSETTO:-0600
TZNAME:CST
DTSTART:20231105T070000
END:STANDARD
BEGIN:DAYLIGHT
TZOFFSETFROM:-0600
TZOFFSETTO:-0500
TZNAME:CDT
DTSTART:20240310T080000
END:DAYLIGHT
BEGIN:STANDARD
TZOFFSETFROM:-0500
TZOFFSETTO:-0600
TZNAME:CST
DTSTART:20241103T070000
END:STANDARD
END:VTIMEZONE
BEGIN:VEVENT
DTSTART;TZID=America/Chicago:20230927T113000
DTEND;TZID=America/Chicago:20230927T130000
DTSTAMP:20260421T094246
CREATED:20230619T164115Z
LAST-MODIFIED:20240904T192404Z
UID:26541-1695814200-1695819600@teamascend.com
SUMMARY:Decode Cyber Insurance
DESCRIPTION:Understanding the Intersection of Cybersecurity and Insurance\n\n\n\nThis panel discussion will explore the critical connection between cybersecurity and insurance\, focusing on insuring against cyber risks. Our expert panelists will provide insights into various aspects of cyber insurance\, helping you navigate the complex landscape and make informed decisions for your organization. The discussion will cover the following key learning objectives: \n\n\n\nYou do NOT want to miss this upcoming cybersecurity lunch and learn event on September—27 at The Innovation Hub in Little Rock.  \n\n\n\nThe discussion will cover the following key learning objectives:\n\n\n\nEnhance Your Understanding: \n\n\n\nGain a comprehensive grasp of available cyber insurance policies\, their coverage nuances\, and how they safeguard against distinct risks and incidents. \n\n\n\nIdentify and Mitigate Risks:\n\n\n\nAcquire invaluable insights into a wide range of cyber risks covered by insurance\, including data breaches\, ransomware attacks\, and business interruptions. \n\n\n\nEmpower Decision-Making:\n\n\n\nLearn essential strategies to bolster your organization’s cybersecurity posture\, including multi-factor authentication\, backup testing\, incident response protocols\, employee training\, and software patch management. This knowledge will enable you to make well-informed decisions about insuring against cyber risks. \n\n\n\n \n\n\n\nJoin us for this enlightening panel discussion as we explore the intricate relationship between cybersecurity and insurance and equip you with the knowledge and tools to make informed decisions about insuring against cyber risks. \n\n\n\n\n\n\n\n\n\nSave your Seat and join Us for a Byte!\n\n\n\nDon’t miss out on the bytes\, bites\, and insights! Bring your appetite for learning\, and we’ll bring the food.
URL:https://teamascend.com/event/decode-cyber-insurance/
ATTACH;FMTTYPE=image/png:https://teamascend.com/wp-content/uploads/2023/06/HOSTED_9_27_23-Cyber-Insurance-Panel-Discussion.png
END:VEVENT
END:VCALENDAR